BEGIN:VCALENDAR
VERSION:2.0
PRODID:-//RIGHTHERE//CALENDARIZE IT V3.2//EN
BEGIN:VEVENT
UID:4386-events@www.fondation-gf.ch
DTSTART:20161112T123000Z
DTEND:20161112T143000Z
DTSTAMP:20160905T123521Z
SUMMARY:M15: Match de championnat
URL:https://www.fondation-gf.ch/evenements/m15-match-de-championnat-38/
ORGANIZER;CN=Fondation Gilbert Facchinetti:
LOCATION:Chanet
END:VEVENT
END:VCALENDAR